BEGIN:VCALENDAR
VERSION:2.0
PRODID:-//213.186.33.4//NONSGML kigkonsult.se iCalcreator 2.20//
CALSCALE:GREGORIAN
METHOD:PUBLISH
X-WR-TIMEZONE:Europe/Paris
BEGIN:VEVENT
UID:event993@GUMS Paris
DTSTAMP:20260420T130513Z
CATEGORIES:Vie du Club
DESCRIPTION:AG - Assemblée Générale du Gums\nCatégorie: Vie du Club\nLien: 
 https://www.gumsparis.asso.fr/index.php?option=com_jem&view=event&id=993:a
 g-annuelle\n
DTSTART;TZID=Europe/Paris:20241119T180000
DTEND;TZID=Europe/Paris:20241119T213000
LOCATION:Maison des Associations du XIVe\,76 rue Daguerre\,75014 Paris
SUMMARY:AG - Assemblée Générale du Gums
URL:https://www.gumsparis.asso.fr/index.php?option=com_jem&view=event&id=99
 3:ag-annuelle
END:VEVENT
END:VCALENDAR
