BEGIN:VCALENDAR
VERSION:2.0
PRODID:-//213.186.33.4//NONSGML kigkonsult.se iCalcreator 2.20//
CALSCALE:GREGORIAN
METHOD:PUBLISH
X-WR-TIMEZONE:Europe/Paris
BEGIN:VEVENT
UID:event105@GUMS Paris
DTSTAMP:20260421T235335Z
CATEGORIES:Sorties Fontainebleau
DESCRIPTION:Rocher Guichot\nCatégorie: Sorties Fontainebleau\nLien: https:/
 /www.gumsparis.asso.fr/index.php?option=com_jem&view=event&id=105:rocher-g
 uichot\n
DTSTART;VALUE=DATE:20241103
DTEND;VALUE=DATE:20241104
SUMMARY:Rocher Guichot
URL:https://www.gumsparis.asso.fr/index.php?option=com_jem&view=event&id=10
 5:rocher-guichot
END:VEVENT
END:VCALENDAR
