BEGIN:VCALENDAR
VERSION:2.0
PRODID:-//213.186.33.4//NONSGML kigkonsult.se iCalcreator 2.20//
CALSCALE:GREGORIAN
METHOD:PUBLISH
X-WR-TIMEZONE:Europe/Paris
BEGIN:VEVENT
UID:event1069@GUMS Paris
DTSTAMP:20260421T132725Z
CATEGORIES:Sorties Falaises
DESCRIPTION:Week-end trad au Rocher de Baus (La Tour sur Tinée)\nCatégorie:
  Sorties Falaises\nLien: https://www.gumsparis.asso.fr/index.php?option=co
 m_jem&view=event&id=1069:week-end-trad-au-rocher-de-baus-la-tour-sur-tinee
 \n
DTSTART;VALUE=DATE:20260508
DTEND;VALUE=DATE:20260511
SUMMARY:Week-end trad au Rocher de Baus (La Tour sur Tinée)
URL:https://www.gumsparis.asso.fr/index.php?option=com_jem&view=event&id=10
 69:week-end-trad-au-rocher-de-baus-la-tour-sur-tinee
END:VEVENT
END:VCALENDAR
