BEGIN:VCALENDAR
VERSION:2.0
PRODID:-//213.186.33.4//NONSGML kigkonsult.se iCalcreator 2.20//
CALSCALE:GREGORIAN
METHOD:PUBLISH
X-WR-TIMEZONE:Europe/Paris
BEGIN:VEVENT
UID:event931@GUMS Paris
DTSTAMP:20260425T154116Z
CATEGORIES:Sorties Falaises\, Sorties randonnée
DESCRIPTION:Rassemblement du Nouvel An dans les Calanques\nCatégorie: Sorti
 es Falaises\, Sorties randonnée\nLien: https://www.gumsparis.asso.fr/index
 .php?option=com_jem&view=event&id=931:rassemblement-du-nouvel-an-dans-les-
 calanques\n
DTSTART;VALUE=DATE:20231230
DTEND;VALUE=DATE:20240107
LOCATION:Gîte de Callelongue\,303 Bd Alexandre Delabre\,13008 Marseille
SUMMARY:Rassemblement du Nouvel An dans les Calanques
URL:https://www.gumsparis.asso.fr/index.php?option=com_jem&view=event&id=93
 1:rassemblement-du-nouvel-an-dans-les-calanques
END:VEVENT
END:VCALENDAR
